BEGIN:VCALENDAR
VERSION:2.0
CREATED:20260413T232028Z
PRODID:-//Emerson/Equisolve Calendar v1.0//EN
METHOD:PUBLISH
BEGIN:VEVENT
UID:326dd44c16d0a562c4fbe8fcd47bc8ae
DTSTAMP:20260420T140315Z
DTSTART:20260505T203000Z
DTEND:20260505T213000Z
SUMMARY:Emerson 2nd Quarter 2026 Earnings
DESCRIPTION:Emerson 2nd Quarter 2026 Earnings\nDate: May 5\, 2026 4:30 pm EDT\nWebcast: /webcast-registration?event_id=10209
END:VEVENT
END:VCALENDAR
